BEGIN:VCALENDAR
PRODID:-//github.com/rianjs/ical.net//NONSGML ical.net 4.0//EN
VERSION:2.0
BEGIN:VEVENT
DESCRIPTION:Mit der Fähre in Mondorf auf die andere Rheinseite. Weiter übe
 r Bornheim zur Wolfsburg und Schallenburg und nach Brühl zu den Schlösser
 n Augustusburg und Falkenlust. Rückfahrt über Wesseling (Fähre).\nhttps:/
 /touren-termine.adfc.de/radveranstaltung/150770-zu-den-schlossern-in-bruh
 l
DTEND:20250427T140000Z
DTSTAMP:20260421T101253Z
DTSTART:20250427T090000Z
LOCATION: Rheidt\, kath. Kirche\, Hoher Rain 27\, 53859 Niederkassel
SEQUENCE:0
SUMMARY:Zu den Schlössern in Brühl
UID:8b057c07-6759-4733-a9fd-ae46eb2ca606
URL:https://touren-termine.adfc.de/radveranstaltung/150770-zu-den-schlosse
 rn-in-bruhl
END:VEVENT
END:VCALENDAR
