BEGIN:VCALENDAR
PRODID:-//github.com/rianjs/ical.net//NONSGML ical.net 4.0//EN
VERSION:2.0
BEGIN:VEVENT
DESCRIPTION:Kennenlerntour durch Stuttgarter Stadtteile\nhttps://touren-te
 rmine.adfc.de/radveranstaltung/166713-fahrradstadtteiltour-stuttgart-nord
 west
DTEND:20250705T150000Z
DTSTAMP:20260424T143935Z
DTSTART:20250705T120000Z
LOCATION:Wilhelm-Geiger-Platz 10\, 70469 Stuttgart
SEQUENCE:0
SUMMARY:Fahrrad-Stadtteiltour Stuttgart Nordwest
UID:3e0fdf3e-674a-4bac-afad-a9678ab05654
URL:https://touren-termine.adfc.de/radveranstaltung/166713-fahrradstadttei
 ltour-stuttgart-nordwest
END:VEVENT
END:VCALENDAR
