BEGIN:VCALENDAR
PRODID:-//github.com/rianjs/ical.net//NONSGML ical.net 4.0//EN
VERSION:2.0
BEGIN:VEVENT
DESCRIPTION:Wir radeln über Radwege und Nebenstraßen zur ehemaligen Wehran
 lage der Nürnberger Burgherren im Markt Lichtenau. Anmeldeschluss 18.09.2
 026\nhttps://touren-termine.adfc.de/radveranstaltung/191431-westwarts-zur
 -festung-lichtenau
DTEND:20260920T163000Z
DTSTAMP:20260423T202715Z
DTSTART:20260920T064500Z
LOCATION:Nürnberg\, U-Bahn-Station Röthenbach\, am Aufzug\, 90449 Nürnberg
SEQUENCE:0
SUMMARY:Westwärts - zur Festung Lichtenau
UID:803e952e-967c-45fe-81c3-9a19e3e12f05
URL:https://touren-termine.adfc.de/radveranstaltung/191431-westwarts-zur-f
 estung-lichtenau
END:VEVENT
END:VCALENDAR
