BEGIN:VCALENDAR
PRODID:-//github.com/rianjs/ical.net//NONSGML ical.net 4.0//EN
VERSION:2.0
BEGIN:VEVENT
DESCRIPTION:Feierabendtour\nhttps://touren-termine.adfc.de/radveranstaltun
 g/88927-feierabendtour
DTEND:20230816T170000Z
DTSTAMP:20260421T100935Z
DTSTART:20230816T140000Z
LOCATION:Kirchstraße 9 (Marktplatz)\, 26835 Hesel\, 26835 Landkreis Leer
SEQUENCE:0
SUMMARY:Feierabendtour
UID:077af9a2-c4e9-4edc-b147-96eedd63be7a
URL:https://touren-termine.adfc.de/radveranstaltung/88927-feierabendtour
END:VEVENT
END:VCALENDAR
