BEGIN:VCALENDAR
PRODID:-//github.com/rianjs/ical.net//NONSGML ical.net 4.0//EN
VERSION:2.0
BEGIN:VEVENT
DESCRIPTION:Wir sind an allen Messetagen mit einem Infostand auf der Fahrr
 admesse vertreten.\nhttps://touren-termine.adfc.de/radveranstaltung/18987
 0-der-adfc-essen-auf-der-fahrradmesse-essen
DTEND:20260226T170000Z
DTSTAMP:20260421T102245Z
DTSTART:20260226T090000Z
LOCATION:Messe Essen\, 45131 Essen
SEQUENCE:0
SUMMARY:Der ADFC Essen auf der Fahrradmesse Essen
UID:dd80f782-fbcb-4877-ab95-19606a575c7e
URL:https://touren-termine.adfc.de/radveranstaltung/189870-der-adfc-essen-
 auf-der-fahrradmesse-essen
END:VEVENT
END:VCALENDAR
