BEGIN:VCALENDAR
PRODID:-//github.com/rianjs/ical.net//NONSGML ical.net 4.0//EN
VERSION:2.0
BEGIN:VEVENT
DESCRIPTION:Von Regensburg über Laaber nach Kallmünz\, Jura- und Flussland
 schaften im Laber- und Naabtal\nhttps://touren-termine.adfc.de/radveranst
 altung/88311-fahrt-zum-blauen-kaffeeauto-nach-kallmunz
DTEND:20230815T150000Z
DTSTAMP:20260424T151819Z
DTSTART:20230815T080000Z
LOCATION:Prüfeninger Schloßstraße\, 93051 Regensburg
SEQUENCE:0
SUMMARY:Fahrt zum blauen Kaffeeauto nach Kallmünz
UID:3369eb9e-9fa2-4d35-b240-bd08dc7e2e9a
URL:https://touren-termine.adfc.de/radveranstaltung/88311-fahrt-zum-blauen
 -kaffeeauto-nach-kallmunz
END:VEVENT
END:VCALENDAR
