BEGIN:VCALENDAR
PRODID:-//github.com/rianjs/ical.net//NONSGML ical.net 4.0//EN
VERSION:2.0
BEGIN:VEVENT
DESCRIPTION:Vom Sonntag\, den 05. bis Samstag\, den 25. Mai heißt es wiede
 r: STADTRADELN "Radeln für ein gutes Klima"\nhttps://touren-termine.adfc.
 de/radveranstaltung/126837-tipp-auftaktfest-vor-dem-schloss
DTEND:20240505T150000Z
DTSTAMP:20260421T151843Z
DTSTART:20240505T100000Z
LOCATION:Vor dem Schloss und auf der Stechbahn\, 29221 Celle
SEQUENCE:0
SUMMARY:Tipp: Auftaktfest vor dem Schloss
UID:852ef64b-a02a-4a1d-b003-d1dfb8bd70d6
URL:https://touren-termine.adfc.de/radveranstaltung/126837-tipp-auftaktfes
 t-vor-dem-schloss
END:VEVENT
END:VCALENDAR
