BEGIN:VCALENDAR
PRODID:-//github.com/rianjs/ical.net//NONSGML ical.net 4.0//EN
VERSION:2.0
BEGIN:VEVENT
DESCRIPTION:Fahrradselbsthilfewerkstatt- Unter Anleitung das eigene Fahrra
 d reparieren.\nhttps://touren-termine.adfc.de/radveranstaltung/135059-vel
 otopia-selbsthilfewerkstatt
DTEND:20241116T110000Z
DTSTAMP:20260420T150021Z
DTSTART:20241116T110000Z
LOCATION:Griesenbruchstraße 9\, 44793 Bochum
SEQUENCE:0
SUMMARY:Velotopia - Selbsthilfewerkstatt
UID:de36135c-4997-4de7-8f8f-3e2c7487979e
URL:https://touren-termine.adfc.de/radveranstaltung/135059-velotopia-selbs
 thilfewerkstatt
END:VEVENT
END:VCALENDAR
