BEGIN:VCALENDAR
PRODID:-//github.com/rianjs/ical.net//NONSGML ical.net 4.0//EN
VERSION:2.0
BEGIN:VEVENT
DESCRIPTION:Von Kirchheim über Owen und Metzingen in Neckartenzlingen an d
 en Neckar und weiter nach Nürtingen.\nhttps://touren-termine.adfc.de/radv
 eranstaltung/107738-von-kirchheimteck-nach-nurtingen
DTEND:20231119T160000Z
DTSTAMP:20260424T143942Z
DTSTART:20231119T084500Z
LOCATION:Kegelenstraße 12\, 70372 Stuttgart
SEQUENCE:0
SUMMARY:Von Kirchheim/Teck nach Nürtingen
UID:e3a5a17c-b7c7-43cc-b028-312d4bc9f274
URL:https://touren-termine.adfc.de/radveranstaltung/107738-von-kirchheimte
 ck-nach-nurtingen
END:VEVENT
END:VCALENDAR
