BEGIN:VCALENDAR
PRODID:-//github.com/rianjs/ical.net//NONSGML ical.net 4.0//EN
VERSION:2.0
BEGIN:VEVENT
DESCRIPTION:Das Ziel der Tour wird zu Beginn bekanngegeben. Anschließend G
 elegenheit zur gemeinsamen Einkehr.\nhttps://touren-termine.adfc.de/radve
 ranstaltung/99891-feierabendtour
DTEND:20231006T180000Z
DTSTAMP:20260421T103217Z
DTSTART:20231006T160000Z
LOCATION: Rheidt\, kath. Kirche\, 53859 Niederkassel
SEQUENCE:0
SUMMARY:Feierabendtour
UID:f8a4cf31-1db8-4f75-ab26-6b37eab7e76f
URL:https://touren-termine.adfc.de/radveranstaltung/99891-feierabendtour
END:VEVENT
END:VCALENDAR
