BEGIN:VCALENDAR
PRODID:-//github.com/rianjs/ical.net//NONSGML ical.net 4.0//EN
VERSION:2.0
BEGIN:VEVENT
DESCRIPTION:Fahrradaffine engagierte junge Menschen willkommen! Neu-intere
 ssierte & ADFC'ler:innen gleichermaßen. Wir planen Aktionen und tauschen 
 uns zu Fahrradthemen aus.\nTreffen @Cafe Uebereck am Ostkreuz\nhttps://to
 uren-termine.adfc.de/radveranstaltung/167968-treffen-des-jungen-adfc-berl
 in
DTEND:20251215T193000Z
DTSTAMP:20260420T114920Z
DTSTART:20251215T180000Z
LOCATION:Cafe Ueberbeck\, Sonntagstraße 31\, Ostkreuz\, 10245 Berlin
SEQUENCE:0
SUMMARY:Treffen des Jungen ADFC Berlin
UID:1b098439-ee25-4da1-838e-92292abf56e7
URL:https://touren-termine.adfc.de/radveranstaltung/167968-treffen-des-jun
 gen-adfc-berlin
END:VEVENT
END:VCALENDAR
