BEGIN:VCALENDAR
PRODID:-//github.com/rianjs/ical.net//NONSGML ical.net 4.0//EN
VERSION:2.0
BEGIN:VEVENT
DESCRIPTION:Tour zu Orten in Essen\, die mit starken Frauen verbunden sind
 \, u.A. Ilse Menz\, Dore Jacobs\, Uta Ranke-Heinemann und Juliane Werding
 .\nhttps://touren-termine.adfc.de/radveranstaltung/190500-kirche-kino-kor
 perbildung
DTEND:20260514T160000Z
DTSTAMP:20260421T190540Z
DTSTART:20260514T080000Z
LOCATION:Parkplatz Holschentor\, Talstraße 8\, 45525 Hattingen
SEQUENCE:0
SUMMARY:Kirche\, Kino\, Körperbildung
UID:8b10abb0-882c-4e7b-a041-dbf7078f9811
URL:https://touren-termine.adfc.de/radveranstaltung/190500-kirche-kino-kor
 perbildung
END:VEVENT
END:VCALENDAR
