BEGIN:VCALENDAR
PRODID:-//github.com/rianjs/ical.net//NONSGML ical.net 4.0//EN
VERSION:2.0
BEGIN:VEVENT
DESCRIPTION:Sternfahrt von Siegen\, Kreuztal und Bad Berleburg zur Rothaar
 hütte auf der Oberndorfer Höhe.\nhttps://touren-termine.adfc.de/radverans
 taltung/102148-2-sternfahrt-des-adfc-siwi-start-siegen
DTEND:20230603T160000Z
DTSTAMP:20260423T030708Z
DTSTART:20230603T100000Z
LOCATION:Jakob-Scheiner-Platz\, 57072 Siegen
SEQUENCE:0
SUMMARY:2. Sternfahrt des ADFC Si-Wi\, Start Siegen
UID:9280f795-b155-44d8-949e-7c96fe4d9b11
URL:https://touren-termine.adfc.de/radveranstaltung/102148-2-sternfahrt-de
 s-adfc-siwi-start-siegen
END:VEVENT
END:VCALENDAR
