BEGIN:VCALENDAR
PRODID:-//github.com/rianjs/ical.net//NONSGML ical.net 4.0//EN
VERSION:2.0
BEGIN:VEVENT
DESCRIPTION:Start: Parkplatz Stadtwaldweiher Rheydt\, 15.07.2023\, 09:30 U
 hr.\nhttps://touren-termine.adfc.de/radveranstaltung/104089-rheydt-rothen
 bach-wassenberg-rheydt
DTEND:20230715T130000Z
DTSTAMP:20260420T232051Z
DTSTART:20230715T073000Z
LOCATION:An der Rheydter Höhe 48\, 41239 Mönchengladbach
SEQUENCE:0
SUMMARY:Rheydt - Rothenbach (Wassenberg) - Rheydt
UID:7cbaa9d6-36f5-466c-abdd-4b5f5fc3ce9c
URL:https://touren-termine.adfc.de/radveranstaltung/104089-rheydt-rothenba
 ch-wassenberg-rheydt
END:VEVENT
END:VCALENDAR
