BEGIN:VCALENDAR
PRODID:-//github.com/rianjs/ical.net//NONSGML ical.net 4.0//EN
VERSION:2.0
BEGIN:VEVENT
DESCRIPTION:Du willst andere Menschen kennenlernen\, die gerne Rad fahren?
 \nhttps://touren-termine.adfc.de/radveranstaltung/128197-bike-connect-adf
 c-ladt-ein
DTEND:20240612T200000Z
DTSTAMP:20260423T143732Z
DTSTART:20240612T170000Z
LOCATION:ADFC Köln\, Mauritiussteinweg 11\, 50676 Köln
SEQUENCE:0
SUMMARY:Bike & Connect: ADFC lädt ein
UID:29b2a74f-918b-4733-9a57-c95413600ce4
URL:https://touren-termine.adfc.de/radveranstaltung/128197-bike-connect-ad
 fc-ladt-ein
END:VEVENT
END:VCALENDAR
