BEGIN:VCALENDAR
PRODID:-//github.com/rianjs/ical.net//NONSGML ical.net 4.0//EN
VERSION:2.0
BEGIN:VEVENT
DESCRIPTION:Die Radtour führt uns über ruhige Wirtschaftswege  zu den Burg
 en und Schlösser im Münsterland..\nhttps://touren-termine.adfc.de/radvera
 nstaltung/174022-burgen-und-schlosser-im-munsterland
DTEND:20260718T140000Z
DTSTAMP:20260421T153443Z
DTSTART:20260718T080000Z
LOCATION:Klosterstraße\, 59348 Lüdinghausen
SEQUENCE:0
SUMMARY:Burgen und Schlösser im Münsterland
UID:495a4880-2bc6-4df7-9da1-3f0e30c11972
URL:https://touren-termine.adfc.de/radveranstaltung/174022-burgen-und-schl
 osser-im-munsterland
END:VEVENT
END:VCALENDAR
