BEGIN:VCALENDAR
PRODID:-//github.com/rianjs/ical.net//NONSGML ical.net 4.0//EN
VERSION:2.0
BEGIN:VEVENT
DESCRIPTION:Unsere Geschäftsstelle ist für alle Anliegen und offenen Frage
 n geöffnet.\nhttps://touren-termine.adfc.de/radveranstaltung/130301-offnu
 ngszeit-unserer-geschaftsstelle
DTEND:20240920T160000Z
DTSTAMP:20260421T120810Z
DTSTART:20240920T140000Z
LOCATION:Essen (Innenstadt)\, ADFC Essen Geschäftsstelle\, Rottstraße 5\, 
 45127 Essen
SEQUENCE:0
SUMMARY:Öffnungszeit unserer Geschäftsstelle
UID:8d2571dd-776a-42ad-a381-b74f3bfda520
URL:https://touren-termine.adfc.de/radveranstaltung/130301-offnungszeit-un
 serer-geschaftsstelle
END:VEVENT
END:VCALENDAR
