BEGIN:VCALENDAR
PRODID:-//github.com/rianjs/ical.net//NONSGML ical.net 4.0//EN
VERSION:2.0
BEGIN:VEVENT
DESCRIPTION:Der ADFC Hamburg bietet Fahrrad-Codierungen für interessierte 
 Bergedorfer*innen an.\nhttps://touren-termine.adfc.de/radveranstaltung/16
 0925-fahrradcodierung-in-bergedorf
DTEND:20250416T140000Z
DTSTAMP:20260420T230821Z
DTSTART:20250416T120000Z
LOCATION:Wentorfer Straße 38\, 21029 Hamburg
SEQUENCE:0
SUMMARY:Fahrrad-Codierung in Bergedorf
UID:a2364a5b-f1d2-4fcb-9446-5fedba2c8b8a
URL:https://touren-termine.adfc.de/radveranstaltung/160925-fahrradcodierun
 g-in-bergedorf
END:VEVENT
END:VCALENDAR
