BEGIN:VCALENDAR
PRODID:-//github.com/rianjs/ical.net//NONSGML ical.net 4.0//EN
VERSION:2.0
BEGIN:VEVENT
DESCRIPTION:Wir fahren in Fahrgemeinschaften ins Alpenland. Das Ziel wird 
 bei der Anmeldung bekannt gegeben. Im Voralpenland und im 5 Seengebiet we
 rden ebenso Touren angeboten.\nhttps://touren-termine.adfc.de/radveransta
 ltung/190633-mtbbergtour-nach-wahl
DTEND:20270415T060000Z
DTSTAMP:20260425T150540Z
DTSTART:20260820T060000Z
LOCATION:Carolinenstraße 1a\, 82319 Starnberg
SEQUENCE:0
SUMMARY:MTB-Bergtour nach Wahl
UID:fd8a7a37-736a-4759-8f8c-96afa35e6d1c
URL:https://touren-termine.adfc.de/radveranstaltung/190633-mtbbergtour-nac
 h-wahl
END:VEVENT
END:VCALENDAR
