BEGIN:VCALENDAR
PRODID:-//github.com/rianjs/ical.net//NONSGML ical.net 4.0//EN
VERSION:2.0
BEGIN:VEVENT
DESCRIPTION:Von Kreuztal über Rad- und Waldwege nach Jagdhaus: Ferndorfque
 lle\, ElberndorferTal\, Rothaarkamm.    \nEinkehr mit Lademöglichkeit im 
 Schäferhof. Anmeldeschluss 07.05.\, Teilnehmerzahl begrenzt.\nhttps://tou
 ren-termine.adfc.de/radveranstaltung/147505-pedelectagestour-nach-jagdhau
 s
DTEND:20250509T170000Z
DTSTAMP:20260422T234652Z
DTSTART:20250509T090000Z
LOCATION:Marburger Straße\, Roter Platz\, 57223 Kreuztal
SEQUENCE:0
SUMMARY:Pedelec-Tagestour nach Jagdhaus
UID:3e0c41f7-1d1c-4440-92c7-7b3d063ace1b
URL:https://touren-termine.adfc.de/radveranstaltung/147505-pedelectagestou
 r-nach-jagdhaus
END:VEVENT
END:VCALENDAR
