BEGIN:VCALENDAR
PRODID:-//github.com/rianjs/ical.net//NONSGML ical.net 4.0//EN
VERSION:2.0
BEGIN:VEVENT
DESCRIPTION:ca. 60 km\, um 18 km/h. Treff 27.06.2026\, 09:00 Uhr\, Hauptba
 hnhof Mönchengladbach\, Gleis 4. Ruhrgebiet pur. Erhabenes und entspannte
 s Radfahren über Bahntrassen.\nhttps://touren-termine.adfc.de/radveransta
 ltung/188389-industriekultur-ruhrgebiet-ii
DTEND:20260627T150000Z
DTSTAMP:20260424T200739Z
DTSTART:20260627T070000Z
LOCATION:Platz der Republik\, 41065 Mönchengladbach
SEQUENCE:0
SUMMARY:Industriekultur Ruhrgebiet II
UID:70820363-6483-41b6-88be-ce469dda715b
URL:https://touren-termine.adfc.de/radveranstaltung/188389-industriekultur
 -ruhrgebiet-ii
END:VEVENT
END:VCALENDAR
