BEGIN:VCALENDAR
PRODID:-//github.com/rianjs/ical.net//NONSGML ical.net 4.0//EN
VERSION:2.0
BEGIN:VEVENT
DESCRIPTION:Verschiedene Geschwindigkeitsgruppen: Pättkes-Tour (15-18 km/h
 )\, Flotte Tour (18-21 km/h)\, Schnelle Tour (21-25 km/h).\nZiel und Rout
 e werden beim Start bekannt gegeben.\nhttps://touren-termine.adfc.de/radv
 eranstaltung/112398-feierabendtour-rund-um-coesfeld-mai-aug
DTEND:20240610T190000Z
DTSTAMP:20260419T232307Z
DTSTART:20240610T170000Z
LOCATION:Marktplatz\, 48653 Coesfeld
SEQUENCE:0
SUMMARY:Feierabendtour rund um Coesfeld: Mai - Aug
UID:f7d25c85-8c31-4621-819a-d2b3e18b319a
URL:https://touren-termine.adfc.de/radveranstaltung/112398-feierabendtour-
 rund-um-coesfeld-mai-aug
END:VEVENT
END:VCALENDAR
