BEGIN:VCALENDAR
PRODID:-//github.com/rianjs/ical.net//NONSGML ical.net 4.0//EN
VERSION:2.0
BEGIN:VEVENT
DESCRIPTION:Eine 21 km lange Wanderung von Obersdorf über weites Hügelland
  zum Wermelinsee\, durch ein verschlungenes Bachtal und über grüne Hügel 
 bis Gusow. Keine Einkehr\, nur mit Picknick. Mit Anmeldung.\nhttps://tour
 en-termine.adfc.de/radveranstaltung/193251-wanderung-durch-den-wilden-ost
 en
DTEND:20260307T172500Z
DTSTAMP:20260424T190317Z
DTSTART:20260307T083000Z
LOCATION:Bahnhof Lichtenberg\, Gleis 15\, 10317 Berlin
SEQUENCE:0
SUMMARY:Wanderung: Durch den wilden Osten
UID:c1be183f-4262-4497-a548-b8684142df6d
URL:https://touren-termine.adfc.de/radveranstaltung/193251-wanderung-durch
 -den-wilden-osten
END:VEVENT
END:VCALENDAR
