BEGIN:VCALENDAR
PRODID:-//github.com/rianjs/ical.net//NONSGML ical.net 4.0//EN
VERSION:2.0
BEGIN:VEVENT
DESCRIPTION:Regelmäßige Tagestour mit Start in Gauting zu einem naturkundl
 ich\, historisch\, kunsthistorisch oder tagesaktuell interessanten Ziel i
 m Südwesten von München.\nZiel heute:\nhttps://touren-termine.adfc.de/rad
 veranstaltung/188108-unterwegs-im-sudwesten-
DTEND:20260625T150000Z
DTSTAMP:20260425T150657Z
DTSTART:20260625T080000Z
LOCATION:Rathaus\, Bahnhofstraße 7\, 82131 Gauting
SEQUENCE:0
SUMMARY:Unterwegs im Südwesten )
UID:3c54ae0c-4911-448e-9a00-b5d9aa7de0da
URL:https://touren-termine.adfc.de/radveranstaltung/188108-unterwegs-im-su
 dwesten-
END:VEVENT
END:VCALENDAR
