BEGIN:VCALENDAR
PRODID:-//github.com/rianjs/ical.net//NONSGML ical.net 4.0//EN
VERSION:2.0
BEGIN:VEVENT
DESCRIPTION:Die Stadtteilgruppe lädt ein zur Kieztour „Wir erFahren Archit
 ektur“. Wir begeben uns diesmal auf einen Streifzug der Architektur zwisc
 hen Klassizismus und Moderne in unserem Bezirk.\nhttps://touren-termine.a
 dfc.de/radveranstaltung/191488-kieztour-cw-architektur-und-stadtraum-erfa
 hren
DTEND:20260426T150000Z
DTSTAMP:20260424T160414Z
DTSTART:20260426T120000Z
LOCATION:Standesamt Charlottenburg\, Alt-Lietzow 28\, 10587 Berlin
SEQUENCE:0
SUMMARY:Kieztour CW - Architektur und Stadtraum erFahren
UID:731ac88a-604b-42a0-8dda-7ce9ba5945f2
URL:https://touren-termine.adfc.de/radveranstaltung/191488-kieztour-cw-arc
 hitektur-und-stadtraum-erfahren
END:VEVENT
END:VCALENDAR
