BEGIN:VCALENDAR
PRODID:-//github.com/rianjs/ical.net//NONSGML ical.net 4.0//EN
VERSION:2.0
BEGIN:VEVENT
DESCRIPTION:ca. 65 km\, 16-18 km/h\, Start: Pavillion Schmölderpark\, 27.0
 7.2024\, 10:00 Uhr. Von Rheydt über Insel Hombroich entlang der Erft nach
  Grimlinghausen (Einkehrmöglichkeit) und zurück nach Rheydt.\nhttps://tou
 ren-termine.adfc.de/radveranstaltung/118246-rheydt-insel-hombroich-grimli
 nghausen-rheydt
DTEND:20240727T140000Z
DTSTAMP:20260420T233215Z
DTSTART:20240727T080000Z
LOCATION:Schmölderstraße\, 41239 Mönchengladbach
SEQUENCE:0
SUMMARY:Rheydt - Insel Hombroich - Grimlinghausen - Rheydt
UID:52fab851-d75e-4561-8a7a-a51a45b2d8b2
URL:https://touren-termine.adfc.de/radveranstaltung/118246-rheydt-insel-ho
 mbroich-grimlinghausen-rheydt
END:VEVENT
END:VCALENDAR
