BEGIN:VCALENDAR
PRODID:-//github.com/rianjs/ical.net//NONSGML ical.net 4.0//EN
VERSION:2.0
BEGIN:VEVENT
DESCRIPTION:Feierabendtour Richtung Schwabhausen\nhttps://touren-termine.a
 dfc.de/radveranstaltung/124116-nordwestrunde
DTEND:20240612T190000Z
DTSTAMP:20260421T100716Z
DTSTART:20240612T160000Z
LOCATION:Bike & Ride Fahrradparkhaus\, 85221 Dachau
SEQUENCE:0
SUMMARY:Nordwestrunde
UID:2c308cf8-125e-4a8a-99e7-08031f501324
URL:https://touren-termine.adfc.de/radveranstaltung/124116-nordwestrunde
END:VEVENT
END:VCALENDAR
