BEGIN:VCALENDAR
PRODID:-//github.com/rianjs/ical.net//NONSGML ical.net 4.0//EN
VERSION:2.0
BEGIN:VEVENT
DESCRIPTION:In gemütlicher Runde plaudern Radfahrbegeisterte über Touren\,
  Technik\, Verkehr usw.. Gäste sind herzlich eingeladen.\nhttps://touren-
 termine.adfc.de/radveranstaltung/152207-monatliches-treffen-mai-thaers-wi
 rtshaus
DTEND:20250507T200000Z
DTSTAMP:20260421T184811Z
DTSTART:20250507T163000Z
LOCATION:Thaerplatz 1\, 29221 Celle
SEQUENCE:0
SUMMARY:Monatliches Treffen\, Mai (Thaers Wirtshaus)
UID:0b4c0e5d-4f45-4990-8e69-ee5e8a299f31
URL:https://touren-termine.adfc.de/radveranstaltung/152207-monatliches-tre
 ffen-mai-thaers-wirtshaus
END:VEVENT
END:VCALENDAR
