BEGIN:VCALENDAR
PRODID:-//github.com/rianjs/ical.net//NONSGML ical.net 4.0//EN
VERSION:2.0
BEGIN:VEVENT
DESCRIPTION:Einfach mal für ein paar Wochen auf das Fahrrad umsteigen - fü
 r ein gesundes Klima und die eigene Gesundheit.\nhttps://touren-termine.a
 dfc.de/radveranstaltung/185960-autofasten
DTEND:20260404T050000Z
DTSTAMP:20260421T233951Z
DTSTART:20260219T060000Z
LOCATION:Südenwall 19\, 59065 Hamm
SEQUENCE:0
SUMMARY:Autofasten
UID:80c031e1-2cee-4d76-8f80-8d5e0ff09ed4
URL:https://touren-termine.adfc.de/radveranstaltung/185960-autofasten
END:VEVENT
END:VCALENDAR
