BEGIN:VCALENDAR
PRODID:-//github.com/rianjs/ical.net//NONSGML ical.net 4.0//EN
VERSION:2.0
BEGIN:VEVENT
DESCRIPTION:Klaus Harzendorf berichtet über die Aktivitäten des Vereins Ra
 dregion Rheinland\nhttps://touren-termine.adfc.de/radveranstaltung/163573
 -adfc-trifft-radregion-rheinland
DTEND:20250611T190000Z
DTSTAMP:20260423T145055Z
DTSTART:20250611T170000Z
LOCATION:Mauritiussteinweg 11\, 50676 Köln
SEQUENCE:0
SUMMARY:ADFC trifft Radregion Rheinland
UID:26c3716c-f522-4d09-9251-fb5d2aedfd98
URL:https://touren-termine.adfc.de/radveranstaltung/163573-adfc-trifft-rad
 region-rheinland
END:VEVENT
END:VCALENDAR
