BEGIN:VCALENDAR
PRODID:-//github.com/rianjs/ical.net//NONSGML ical.net 4.0//EN
VERSION:2.0
BEGIN:VEVENT
DESCRIPTION:Jeder ( ideal auch für Einsteiger)\, der ein verkehrssicheres 
 Fahrrad besitz und sich auf dem Fahrrad wohl fühlt\, kann gerne teilnehme
 n\, Dauer ca. 3 Stunden\; Strecke ca. 30 - 35 km.\nhttps://touren-termine
 .adfc.de/radveranstaltung/144285-feierabendtour-rinteln
DTEND:20250617T190000Z
DTSTAMP:20260420T210109Z
DTSTART:20250617T160000Z
LOCATION:Nachtwächter \, Marktplatz 6\, 31737 Rinteln
SEQUENCE:0
SUMMARY:Feierabendtour Rinteln
UID:97b51e14-af92-4484-9de7-84de50bb6bec
URL:https://touren-termine.adfc.de/radveranstaltung/144285-feierabendtour-
 rinteln
END:VEVENT
END:VCALENDAR
