BEGIN:VCALENDAR
PRODID:-//github.com/rianjs/ical.net//NONSGML ical.net 4.0//EN
VERSION:2.0
BEGIN:VEVENT
DESCRIPTION:Wir starten bis Anfang September ale 14 Tage abwechselnd am Di
 enstag oder am Donnerstag um 18 Uhr vor dem Badlantic (Reeshoop 60) zu ei
 ner Radtour in die Natur rund um Ahrensburg.\nhttps://touren-termine.adfc
 .de/radveranstaltung/148581-die-6-feierabendtour-der-ortsgruppe-ahrensbur
 g
DTEND:20250605T183000Z
DTSTAMP:20260424T050424Z
DTSTART:20250605T160000Z
LOCATION:Reeshoop 60\, vor dem Badlantic\, 22926 Ahrensburg
SEQUENCE:0
SUMMARY:Die 6. Feierabendtour der Ortsgruppe Ahrensburg
UID:82d39b53-d135-44ce-b3b4-25293be7c15d
URL:https://touren-termine.adfc.de/radveranstaltung/148581-die-6-feieraben
 dtour-der-ortsgruppe-ahrensburg
END:VEVENT
END:VCALENDAR
