BEGIN:VCALENDAR
PRODID:-//github.com/rianjs/ical.net//NONSGML ical.net 4.0//EN
VERSION:2.0
BEGIN:VEVENT
DESCRIPTION:3-stündiger Kurs zur Unterweisung in Fahrtechnik und Fahrsiche
 rheit mit dem Pedelec / E-Bike.\nPraktische Übungen von Gleichgewicht\, S
 chalten\, Bremsen\, Kurven fahren\, etc.\nhttps://touren-termine.adfc.de/
 radveranstaltung/156695-fahrsicherheitstraining-fur-senioren-mit-ebikes
DTEND:20250503T140000Z
DTSTAMP:20260425T150800Z
DTSTART:20250503T110000Z
LOCATION:Schulcampus Germeringer Straße\, 82131 Gauting
SEQUENCE:0
SUMMARY:Fahrsicherheitstraining für Senioren mit E-Bikes
UID:51e617d9-126b-4110-84bc-536d7c77d12b
URL:https://touren-termine.adfc.de/radveranstaltung/156695-fahrsicherheits
 training-fur-senioren-mit-ebikes
END:VEVENT
END:VCALENDAR
