BEGIN:VCALENDAR
PRODID:-//github.com/rianjs/ical.net//NONSGML ical.net 4.0//EN
VERSION:2.0
BEGIN:VEVENT
DESCRIPTION:Jeden Montag findet morgens eine Radtour statt.\nhttps://toure
 n-termine.adfc.de/radveranstaltung/188006-montag-morgen-tour
DTEND:20260216T110000Z
DTSTAMP:20260423T201050Z
DTSTART:20260209T090000Z
LOCATION:In der Ahe 29\, 27356 Rotenburg
SEQUENCE:0
SUMMARY:Montag Morgen Tour
UID:ea4c9eeb-b40c-409c-9d0e-3871c682bbc0
URL:https://touren-termine.adfc.de/radveranstaltung/188006-montag-morgen-t
 our
END:VEVENT
END:VCALENDAR
