BEGIN:VCALENDAR
PRODID:-//github.com/rianjs/ical.net//NONSGML ical.net 4.0//EN
VERSION:2.0
BEGIN:VEVENT
DESCRIPTION:ca. 70 km\, 16-18 km/h\, Start: Parkplatz Schloss Rheydt\, 19.
 05.2024\, 10:15 Uhr. Von Schloss Rheydt über Kaarst über die Südbrücke mi
 t Einkehrmöglichkeiten im Düsseldorfer Hafen und zurück zum Schloss.\nhtt
 ps://touren-termine.adfc.de/radveranstaltung/133502-rheydt-medienhafen-du
 sseldorf-rheydt
DTEND:20240519T150000Z
DTSTAMP:20260420T232332Z
DTSTART:20240519T081500Z
LOCATION:Ritterstraße\, 41238 Mönchengladbach
SEQUENCE:0
SUMMARY:Rheydt - Medienhafen Düsseldorf - Rheydt
UID:e6e18164-c741-45f3-b240-abcf920ff15c
URL:https://touren-termine.adfc.de/radveranstaltung/133502-rheydt-medienha
 fen-dusseldorf-rheydt
END:VEVENT
END:VCALENDAR
