BEGIN:VCALENDAR
PRODID:-//github.com/rianjs/ical.net//NONSGML ical.net 4.0//EN
VERSION:2.0
BEGIN:VEVENT
DESCRIPTION:Niemand ist perfekt\, das Radwegesystem in Cuxhaven schon gar 
 nicht!\nWir unterhalten uns über alle Dinge rund ums Fahrrad und nehmen W
 ünsche und Anregungen an.\nhttps://touren-termine.adfc.de/radveranstaltun
 g/142233-kaffeestunde
DTEND:20250120T160000Z
DTSTAMP:20260421T021643Z
DTSTART:20250120T140000Z
LOCATION:Bürgerbahnhof\, Am Bahnhof 1\, 27472 Cuxhaven
SEQUENCE:0
SUMMARY:Kaffeestunde
UID:bdd089bb-9792-48e3-a592-536ab0ce2a22
URL:https://touren-termine.adfc.de/radveranstaltung/142233-kaffeestunde
END:VEVENT
END:VCALENDAR
