BEGIN:VCALENDAR
PRODID:-//github.com/rianjs/ical.net//NONSGML ical.net 4.0//EN
VERSION:2.0
BEGIN:VEVENT
DESCRIPTION:10 Termine ab 1.6. jeweils Mo + Do 17.15 - 18.45 Uhr\nhttps://
 touren-termine.adfc.de/radveranstaltung/197691-beginn-radfahrkurs-fur-erw
 achsene-anfangerinnen
DTEND:20260601T164500Z
DTSTAMP:20260421T115934Z
DTSTART:20260601T151500Z
LOCATION:Straße des 18. Oktober 46\, 04103 Leipzig
SEQUENCE:0
SUMMARY:Beginn: Radfahrkurs für erwachsene Anfänger*innen
UID:6c31e90c-5830-41d3-bf88-a53f11cd9872
URL:https://touren-termine.adfc.de/radveranstaltung/197691-beginn-radfahrk
 urs-fur-erwachsene-anfangerinnen
END:VEVENT
END:VCALENDAR
