BEGIN:VCALENDAR
PRODID:-//github.com/rianjs/ical.net//NONSGML ical.net 4.0//EN
VERSION:2.0
BEGIN:VEVENT
DESCRIPTION:Unter fachlicher Anleitung von Anne\, Schrauberin der Lastenrä
 der von fLotte-Berlin.de\, reparieren wir gemeinsam Fahrräder. Der Worksh
 op ist kostenfrei. Melde dich an\, es sind jeweils 6 Plätze frei!\nhttps:
 //touren-termine.adfc.de/radveranstaltung/107057-fahrradreparaturworkshop
 -fur-frauen
DTEND:20231105T163000Z
DTSTAMP:20260424T045953Z
DTSTART:20231105T120000Z
LOCATION:Garage 10\, Sewanstraße 43\, 10319 Berlin
SEQUENCE:0
SUMMARY:Fahrradreparatur-Workshop für Frauen
UID:a098d99f-4209-48b6-bb9a-38c41c17a895
URL:https://touren-termine.adfc.de/radveranstaltung/107057-fahrradreparatu
 rworkshop-fur-frauen
END:VEVENT
END:VCALENDAR
