BEGIN:VCALENDAR
PRODID:-//github.com/rianjs/ical.net//NONSGML ical.net 4.0//EN
VERSION:2.0
BEGIN:VEVENT
DESCRIPTION:Der ADFC Hamburg bietet ein offenes Fahrrad-Codieren für inter
 essierte beim Sommerfest des ETV an.\nhttps://touren-termine.adfc.de/radv
 eranstaltung/171293-fahrradcodierung-beim-sommerfest-des-etv
DTEND:20250906T130000Z
DTSTAMP:20260420T231635Z
DTSTART:20250906T080000Z
LOCATION:Bundesstraße 96\, 20144 Hamburg
SEQUENCE:0
SUMMARY:Fahrrad-Codierung beim Sommerfest des ETV
UID:cfa618aa-bcdf-445b-ac87-31f1ace615d4
URL:https://touren-termine.adfc.de/radveranstaltung/171293-fahrradcodierun
 g-beim-sommerfest-des-etv
END:VEVENT
END:VCALENDAR
