BEGIN:VCALENDAR
PRODID:-//github.com/rianjs/ical.net//NONSGML ical.net 4.0//EN
VERSION:2.0
BEGIN:VEVENT
DESCRIPTION:Am frühen Morgen des Silvestertages 2025 starten wir ab dem Ba
 hnhof Wildeshausen zu einer schönen Radtour rund um Wildeshausen\, entlan
 g der Hunte.\nAnmeldung per WhatsApp 017684557372\nhttps://touren-termine
 .adfc.de/radveranstaltung/176300-silvesterfahrradtour-202526
DTEND:20251231T130000Z
DTSTAMP:20260423T154756Z
DTSTART:20251231T090000Z
LOCATION:Ladestraße\, 27793 Wildeshausen
SEQUENCE:0
SUMMARY:Silvester-Fahrradtour 2025-26
UID:a34063f4-18d7-4def-b8bd-c4f78e2c587e
URL:https://touren-termine.adfc.de/radveranstaltung/176300-silvesterfahrra
 dtour-202526
END:VEVENT
END:VCALENDAR
