BEGIN:VCALENDAR
PRODID:-//github.com/rianjs/ical.net//NONSGML ical.net 4.0//EN
VERSION:2.0
BEGIN:VEVENT
DESCRIPTION:Start in Buch. Über Bernau und Eberswalde geht es in die Schor
 fheide nach Afrika bei Stegelitz. Rückfahrt mit der Bahn ab Bhf. Wilmersd
 orf.\nhttps://touren-termine.adfc.de/radveranstaltung/163068-berliner-fah
 rradwochen-gemeinsam-nach-afrika
DTEND:20250727T170000Z
DTSTAMP:20260425T132459Z
DTSTART:20250727T063000Z
LOCATION:S-Bahnhof Buch\, Hinter-Ausgang\, linke Seite\, Rampe\, 13125 Ber
 lin
SEQUENCE:0
SUMMARY:Berliner Fahrradwochen: Gemeinsam nach Afrika
UID:a4c45391-1201-4a21-a36e-aade06135b22
URL:https://touren-termine.adfc.de/radveranstaltung/163068-berliner-fahrra
 dwochen-gemeinsam-nach-afrika
END:VEVENT
END:VCALENDAR
