BEGIN:VCALENDAR
PRODID:-//github.com/rianjs/ical.net//NONSGML ical.net 4.0//EN
VERSION:2.0
BEGIN:VEVENT
DESCRIPTION:Runter vom Sofa\, rauf auf den Sattel - Frischluft genießen un
 d gesund rein ins Wochenende\nhttps://touren-termine.adfc.de/radveranstal
 tung/170111-wandsbeker-hausrunde
DTEND:20250815T180000Z
DTSTAMP:20260420T231111Z
DTSTART:20250815T163000Z
LOCATION:Vor der Kreuzkirche Kedenburgstraße 14\, 22041 Hamburg
SEQUENCE:0
SUMMARY:Wandsbeker Hausrunde
UID:438758f3-8b11-400b-9f2e-0cea0924085d
URL:https://touren-termine.adfc.de/radveranstaltung/170111-wandsbeker-haus
 runde
END:VEVENT
END:VCALENDAR
