BEGIN:VCALENDAR
PRODID:-//github.com/rianjs/ical.net//NONSGML ical.net 4.0//EN
VERSION:2.0
BEGIN:VEVENT
DESCRIPTION:Wir fahren in Fahrgemeinschaften ins Alpenland. Das Ziel wird 
 bei der Anmeldung bekannt gegeben. Im Voralpenland und im 5 Seengebiet we
 rden ebenso Touren angeboten.\nhttps://touren-termine.adfc.de/radveransta
 ltung/149858-mtbbergtour-nach-wahl
DTEND:20250529T150000Z
DTSTAMP:20260425T150332Z
DTSTART:20250529T060000Z
LOCATION:Carolinenstraße 1a\, 82319 Starnberg
SEQUENCE:0
SUMMARY:MTB-Bergtour nach Wahl
UID:2d983149-aa95-4c06-ad7c-b22640537160
URL:https://touren-termine.adfc.de/radveranstaltung/149858-mtbbergtour-nac
 h-wahl
END:VEVENT
END:VCALENDAR
