BEGIN:VCALENDAR
PRODID:-//github.com/rianjs/ical.net//NONSGML ical.net 4.0//EN
VERSION:2.0
BEGIN:VEVENT
DESCRIPTION:Das ADFC-Aktiventreffen bietet die Möglichkeit gemeinsam über 
 aktuelle Themen zu diskutieren\, Ideen auszutauschen und aktiv an unserer
  Vereinsarbeit teilzuhaben.\nhttps://touren-termine.adfc.de/radveranstalt
 ung/137441-adfc-aktiventreffen
DTEND:20240828T190000Z
DTSTAMP:20260424T160526Z
DTSTART:20240828T170000Z
LOCATION:Kunstraum im Hundertwasser-Bahnhof\, Friedensreich-Hundertwasser-
 Platz 1\, 29525 Uelzen
SEQUENCE:0
SUMMARY:ADFC Aktiventreffen
UID:dd6a38df-00bb-476c-b8e9-ddbd95b71545
URL:https://touren-termine.adfc.de/radveranstaltung/137441-adfc-aktiventre
 ffen
END:VEVENT
END:VCALENDAR
