BEGIN:VCALENDAR
PRODID:-//github.com/rianjs/ical.net//NONSGML ical.net 4.0//EN
VERSION:2.0
BEGIN:VEVENT
DESCRIPTION:Wir treffen uns jeden 1. Donnerstag eines Monats (außer August
 ) um 19:00 Uhr im Gasthaus Belfort in Kaufbeuren\, Mindelheimer Str. 35. 
 Fahrrad-Codierung möglich. Diesmal mit Bildern aus 2024.\nhttps://touren-
 termine.adfc.de/radveranstaltung/114818-adfcstammtisch-mit-bildern-u-fahr
 radcodierung
DTEND:20241107T210000Z
DTSTAMP:20260419T155922Z
DTSTART:20241107T180000Z
LOCATION:Gasthaus Belfort\, Mindelheimer Straße 35\, 87600 Kaufbeuren
SEQUENCE:0
SUMMARY:ADFC-Stammtisch mit Bildern u. Fahrrad-Codierung
UID:c25047dd-dbe8-4c36-9bce-97c9a8bd2abd
URL:https://touren-termine.adfc.de/radveranstaltung/114818-adfcstammtisch-
 mit-bildern-u-fahrradcodierung
END:VEVENT
END:VCALENDAR
