BEGIN:VCALENDAR
PRODID:-//github.com/rianjs/ical.net//NONSGML ical.net 4.0//EN
VERSION:2.0
BEGIN:VEVENT
DESCRIPTION:Wir fahren mit der Bahn nach Freudenstadt\, von dort mit dem R
 ad entlang der Murg nach Rastatt. Von dort geht es wieder mit der Bahn na
 ch Offenburg\nhttps://touren-termine.adfc.de/radveranstaltung/121300-tour
 -de-murg-von-freudenstadt-nach-rastatt
DTEND:20240630T153000Z
DTSTAMP:20260422T232506Z
DTSTART:20240630T064000Z
LOCATION:Hauptbahnhof\, 77654 Offenburg
SEQUENCE:0
SUMMARY:Tour de Murg von Freudenstadt nach Rastatt
UID:51f656c9-cb3e-4c63-b8ec-96e9af2fa08f
URL:https://touren-termine.adfc.de/radveranstaltung/121300-tour-de-murg-vo
 n-freudenstadt-nach-rastatt
END:VEVENT
END:VCALENDAR
