BEGIN:VCALENDAR
PRODID:-//github.com/rianjs/ical.net//NONSGML ical.net 4.0//EN
VERSION:2.0
BEGIN:VEVENT
DESCRIPTION:Der ADFC Bochum lädt ein zur ordentlichen Mitgliederversammlun
 g 2026\nhttps://touren-termine.adfc.de/radveranstaltung/189877-mitglieder
 versammlung-2026
DTEND:20260312T200000Z
DTSTAMP:20260420T150145Z
DTSTART:20260312T180000Z
LOCATION:Alsenstraße 27\, 44789 Bochum
SEQUENCE:0
SUMMARY:Mitgliederversammlung 2026
UID:1835df79-240f-4f0c-b5c4-4830b24a593f
URL:https://touren-termine.adfc.de/radveranstaltung/189877-mitgliederversa
 mmlung-2026
END:VEVENT
END:VCALENDAR
