BEGIN:VCALENDAR
PRODID:-//github.com/rianjs/ical.net//NONSGML ical.net 4.0//EN
VERSION:2.0
BEGIN:VEVENT
DESCRIPTION:Lockere Feierabendtour\nhttps://touren-termine.adfc.de/radvera
 nstaltung/196979-kreuzhof
DTEND:20261001T190000Z
DTSTAMP:20260421T100752Z
DTSTART:20261001T160000Z
LOCATION:Bike & Ride Fahrradparkhaus\, 85221 Dachau
SEQUENCE:0
SUMMARY:Kreuzhof
UID:09311b0f-58df-42fc-874b-abcc60c19653
URL:https://touren-termine.adfc.de/radveranstaltung/196979-kreuzhof
END:VEVENT
END:VCALENDAR
